BEGIN:VCALENDAR
VERSION:2.0
PRODID:-//Fraley Auction Company, Inc. - ECPv5.16.4//NONSGML v1.0//EN
CALSCALE:GREGORIAN
METHOD:PUBLISH
X-WR-CALNAME:Fraley Auction Company, Inc.
X-ORIGINAL-URL:https://fraleyauction.com
X-WR-CALDESC:Events for Fraley Auction Company, Inc.
BEGIN:VTIMEZONE
TZID:America/New_York
BEGIN:DAYLIGHT
TZOFFSETFROM:-0500
TZOFFSETTO:-0400
TZNAME:EDT
DTSTART:20220313T070000
END:DAYLIGHT
BEGIN:STANDARD
TZOFFSETFROM:-0400
TZOFFSETTO:-0500
TZNAME:EST
DTSTART:20221106T060000
END:STANDARD
END:VTIMEZONE
BEGIN:VEVENT
DTSTART;TZID=America/New_York:20220907T180000
DTEND;TZID=America/New_York:20220907T200000
DTSTAMP:20260423T174113
CREATED:20220720T114140Z
LAST-MODIFIED:20220720T114140Z
UID:17283-1662573600-1662580800@fraleyauction.com
SUMMARY:58 Acre Eastern Lycoming County Farm Land
DESCRIPTION:
URL:https://fraleyauction.com/event/58-acre-eastern-lycoming-county-farm-land/
LOCATION:Located along Tome Road\, Muncy\, PA ~ 4 miles W of Lairdsville
END:VEVENT
END:VCALENDAR