BEGIN:VCALENDAR
VERSION:2.0
PRODID:-//Fraley Auction Company, Inc. - ECPv5.16.4//NONSGML v1.0//EN
CALSCALE:GREGORIAN
METHOD:PUBLISH
X-WR-CALNAME:Fraley Auction Company, Inc.
X-ORIGINAL-URL:https://fraleyauction.com
X-WR-CALDESC:Events for Fraley Auction Company, Inc.
BEGIN:VTIMEZONE
TZID:UTC
BEGIN:STANDARD
TZOFFSETFROM:+0000
TZOFFSETTO:+0000
TZNAME:UTC
DTSTART:20190101T000000
END:STANDARD
END:VTIMEZONE
BEGIN:VEVENT
DTSTART;TZID=UTC:20190410T100000
DTEND;TZID=UTC:20190410T100000
DTSTAMP:20260425T000945
CREATED:20190408T184511Z
LAST-MODIFIED:20190408T184511Z
UID:16694-1554890400-1554890400@fraleyauction.com
SUMMARY:60 Acre Farm & 19 Acre Farmette
DESCRIPTION:JD 7430 Tractor\, Equipment\, Angus Cattle Herd
URL:https://fraleyauction.com/event/60-acre-farm-19-acre-farmette/
LOCATION:Valley Angus Farms\, 513 Valley Road\, Tamaqua\, PA\, 18252\, United States
ATTACH;FMTTYPE=image/jpeg:https://fraleyauction.com/wp-content/uploads/2019/04/7430-1.jpg
END:VEVENT
END:VCALENDAR