BEGIN:VCALENDAR
VERSION:2.0
PRODID:-//Fraley Auction Company, Inc. - ECPv5.16.4//NONSGML v1.0//EN
CALSCALE:GREGORIAN
METHOD:PUBLISH
X-WR-CALNAME:Fraley Auction Company, Inc.
X-ORIGINAL-URL:https://fraleyauction.com
X-WR-CALDESC:Events for Fraley Auction Company, Inc.
BEGIN:VTIMEZONE
TZID:America/New_York
BEGIN:DAYLIGHT
TZOFFSETFROM:-0500
TZOFFSETTO:-0400
TZNAME:EDT
DTSTART:20220313T070000
END:DAYLIGHT
BEGIN:STANDARD
TZOFFSETFROM:-0400
TZOFFSETTO:-0500
TZNAME:EST
DTSTART:20221106T060000
END:STANDARD
END:VTIMEZONE
BEGIN:VEVENT
DTSTART;TZID=America/New_York:20220901T093000
DTEND;TZID=America/New_York:20220901T233000
DTSTAMP:20260423T161809
CREATED:20220724T233332Z
LAST-MODIFIED:20220724T234026Z
UID:17286-1662024600-1662075000@fraleyauction.com
SUMMARY:Bishcroft Farm LLC Cattle Dispersal
DESCRIPTION:
URL:https://fraleyauction.com/event/bishcroft-farm-llc-cattle-dispersal/
LOCATION:2425 Farm Road\, Roaring Branch\, PA  (Tioga County)
ATTACH;FMTTYPE=image/jpeg:https://fraleyauction.com/wp-content/uploads/2022/07/bishop-farm-sign.jpg
END:VEVENT
END:VCALENDAR