BEGIN:VCALENDAR
VERSION:2.0
PRODID:-//Fraley Auction Company, Inc. - ECPv5.16.4//NONSGML v1.0//EN
CALSCALE:GREGORIAN
METHOD:PUBLISH
X-WR-CALNAME:Fraley Auction Company, Inc.
X-ORIGINAL-URL:https://fraleyauction.com
X-WR-CALDESC:Events for Fraley Auction Company, Inc.
BEGIN:VTIMEZONE
TZID:America/New_York
BEGIN:DAYLIGHT
TZOFFSETFROM:-0500
TZOFFSETTO:-0400
TZNAME:EDT
DTSTART:20220313T070000
END:DAYLIGHT
BEGIN:STANDARD
TZOFFSETFROM:-0400
TZOFFSETTO:-0500
TZNAME:EST
DTSTART:20221106T060000
END:STANDARD
END:VTIMEZONE
BEGIN:VEVENT
DTSTART;TZID=America/New_York:20220115T110000
DTEND;TZID=America/New_York:20220115T190000
DTSTAMP:20260420T165029
CREATED:20211111T140112Z
LAST-MODIFIED:20211217T234242Z
UID:17082-1642244400-1642273200@fraleyauction.com
SUMMARY:Brett Bowes Dispersal
DESCRIPTION:1-15-22 click here for flyer
URL:https://fraleyauction.com/event/brett-bowes-dispersal/
LOCATION:1550 River Road\, Jersey Shore\, PA  17740
ATTACH;FMTTYPE=image/jpeg:https://fraleyauction.com/wp-content/uploads/2021/11/brett-bowes-tractor-scaled.jpg
END:VEVENT
END:VCALENDAR