BEGIN:VCALENDAR
VERSION:2.0
PRODID:-//Fraley Auction Company, Inc. - ECPv5.16.4//NONSGML v1.0//EN
CALSCALE:GREGORIAN
METHOD:PUBLISH
X-WR-CALNAME:Fraley Auction Company, Inc.
X-ORIGINAL-URL:https://fraleyauction.com
X-WR-CALDESC:Events for Fraley Auction Company, Inc.
BEGIN:VTIMEZONE
TZID:America/New_York
BEGIN:DAYLIGHT
TZOFFSETFROM:-0500
TZOFFSETTO:-0400
TZNAME:EDT
DTSTART:20220313T070000
END:DAYLIGHT
BEGIN:STANDARD
TZOFFSETFROM:-0400
TZOFFSETTO:-0500
TZNAME:EST
DTSTART:20221106T060000
END:STANDARD
END:VTIMEZONE
BEGIN:VEVENT
DTSTART;TZID=America/New_York:20220327T080000
DTEND;TZID=America/New_York:20220327T170000
DTSTAMP:20260420T064455
CREATED:20220327T213828Z
LAST-MODIFIED:20220327T213828Z
UID:17181-1648368000-1648400400@fraleyauction.com
SUMMARY:Campanile Real Estate
DESCRIPTION:5-25-22 click here for flyer
URL:https://fraleyauction.com/event/campanile-real-estate/
END:VEVENT
END:VCALENDAR