BEGIN:VCALENDAR
VERSION:2.0
PRODID:-//Fraley Auction Company, Inc. - ECPv5.16.4//NONSGML v1.0//EN
CALSCALE:GREGORIAN
METHOD:PUBLISH
X-WR-CALNAME:Fraley Auction Company, Inc.
X-ORIGINAL-URL:https://fraleyauction.com
X-WR-CALDESC:Events for Fraley Auction Company, Inc.
BEGIN:VTIMEZONE
TZID:America/New_York
BEGIN:DAYLIGHT
TZOFFSETFROM:-0500
TZOFFSETTO:-0400
TZNAME:EDT
DTSTART:20210314T070000
END:DAYLIGHT
BEGIN:STANDARD
TZOFFSETFROM:-0400
TZOFFSETTO:-0500
TZNAME:EST
DTSTART:20211107T060000
END:STANDARD
END:VTIMEZONE
BEGIN:VEVENT
DTSTART;TZID=America/New_York:20210508T080000
DTEND;TZID=America/New_York:20210508T200000
DTSTAMP:20260424T120730
CREATED:20210401T172418Z
LAST-MODIFIED:20210426T152744Z
UID:16930-1620460800-1620504000@fraleyauction.com
SUMMARY:Fraley's Annual Lawn & Garden Event
DESCRIPTION:5-8-21  Click here for flyer
URL:https://fraleyauction.com/event/fraleys-annual-lawn-garden-event-2/
LOCATION:at the Fraley Farm Complex\, 1515 Kepner Hill Road\, Muncy\, PA  17756
ATTACH;FMTTYPE=image/jpeg:https://fraleyauction.com/wp-content/uploads/2021/04/JD-lawn-tractor-for-website.jpg
END:VEVENT
END:VCALENDAR