BEGIN:VCALENDAR
VERSION:2.0
PRODID:-//Fraley Auction Company, Inc. - ECPv5.16.4//NONSGML v1.0//EN
CALSCALE:GREGORIAN
METHOD:PUBLISH
X-WR-CALNAME:Fraley Auction Company, Inc.
X-ORIGINAL-URL:https://fraleyauction.com
X-WR-CALDESC:Events for Fraley Auction Company, Inc.
BEGIN:VTIMEZONE
TZID:UTC
BEGIN:STANDARD
TZOFFSETFROM:+0000
TZOFFSETTO:+0000
TZNAME:UTC
DTSTART:20190101T000000
END:STANDARD
END:VTIMEZONE
BEGIN:VEVENT
DTSTART;TZID=UTC:20190504T080000
DTEND;TZID=UTC:20190504T080000
DTSTAMP:20260425T001153
CREATED:20190408T201804Z
LAST-MODIFIED:20190408T201804Z
UID:16696-1556956800-1556956800@fraleyauction.com
SUMMARY:Fraley's Annual Lawn & Garden Event
DESCRIPTION:Antiques\, Boats\, Campers\, Lawn Equipment\nRTV’s\, Golf Carts\, Trailers\nOutdoor & Indoor Furniture\, Antiques\nShrub’s\, Trees\, 100’s hanging flower baskets\, Plants\nFlowers & Planters\nEverything for your Home\, Farm\, Cabin & River Lot \n5-4-19 Information Flyer
URL:https://fraleyauction.com/event/fraleys-annual-lawn-garden-event/
LOCATION:Fraley Farm Complex\, 1515 Kepner Hill Rd\, Muncy\, PA\, 17756\, United States
ATTACH;FMTTYPE=image/jpeg:https://fraleyauction.com/wp-content/uploads/2019/04/Untitled-3-1.jpg
END:VEVENT
END:VCALENDAR