BEGIN:VCALENDAR
VERSION:2.0
PRODID:-//Fraley Auction Company, Inc. - ECPv5.16.4//NONSGML v1.0//EN
CALSCALE:GREGORIAN
METHOD:PUBLISH
X-WR-CALNAME:Fraley Auction Company, Inc.
X-ORIGINAL-URL:https://fraleyauction.com
X-WR-CALDESC:Events for Fraley Auction Company, Inc.
BEGIN:VTIMEZONE
TZID:America/New_York
BEGIN:DAYLIGHT
TZOFFSETFROM:-0500
TZOFFSETTO:-0400
TZNAME:EDT
DTSTART:20230312T070000
END:DAYLIGHT
BEGIN:STANDARD
TZOFFSETFROM:-0400
TZOFFSETTO:-0500
TZNAME:EST
DTSTART:20231105T060000
END:STANDARD
END:VTIMEZONE
BEGIN:VEVENT
DTSTART;TZID=America/New_York:20230826T090000
DTEND;TZID=America/New_York:20230826T180000
DTSTAMP:20260420T094514
CREATED:20230814T141734Z
LAST-MODIFIED:20230814T141734Z
UID:17549-1693040400-1693072800@fraleyauction.com
SUMMARY:Gray Builders Auction
DESCRIPTION:8-26-23 click here for flyer
URL:https://fraleyauction.com/event/gray-builders-auction/
LOCATION:340 E Mahoning Street\, Danville\, PA
ATTACH;FMTTYPE=image/jpeg:https://fraleyauction.com/wp-content/uploads/2023/08/gray-plastic-pipe-II-scaled.jpg
END:VEVENT
END:VCALENDAR