BEGIN:VCALENDAR
VERSION:2.0
PRODID:-//Fraley Auction Company, Inc. - ECPv5.16.4//NONSGML v1.0//EN
CALSCALE:GREGORIAN
METHOD:PUBLISH
X-WR-CALNAME:Fraley Auction Company, Inc.
X-ORIGINAL-URL:https://fraleyauction.com
X-WR-CALDESC:Events for Fraley Auction Company, Inc.
BEGIN:VTIMEZONE
TZID:America/New_York
BEGIN:DAYLIGHT
TZOFFSETFROM:-0500
TZOFFSETTO:-0400
TZNAME:EDT
DTSTART:20220313T070000
END:DAYLIGHT
BEGIN:STANDARD
TZOFFSETFROM:-0400
TZOFFSETTO:-0500
TZNAME:EST
DTSTART:20221106T060000
END:STANDARD
END:VTIMEZONE
BEGIN:VEVENT
DTSTART;TZID=America/New_York:20220101T080000
DTEND;TZID=America/New_York:20220101T230000
DTSTAMP:20260420T183945
CREATED:20211111T135457Z
LAST-MODIFIED:20211227T183715Z
UID:17079-1641024000-1641078000@fraleyauction.com
SUMMARY:Hoover Tractor Consignment Auction                                                                                                                                 (New Years Day)
DESCRIPTION:1-1-22 click here for flyer
URL:https://fraleyauction.com/event/hoover-tractor-consignment-auction-new-years-day/
LOCATION:11715 Old Turnpike Road\, Mifflinburg\, PA  17844
ATTACH;FMTTYPE=image/png:https://fraleyauction.com/wp-content/uploads/2021/11/hoover-tractor-crowd.png
END:VEVENT
END:VCALENDAR