BEGIN:VCALENDAR
VERSION:2.0
PRODID:-//Fraley Auction Company, Inc. - ECPv5.16.4//NONSGML v1.0//EN
CALSCALE:GREGORIAN
METHOD:PUBLISH
X-WR-CALNAME:Fraley Auction Company, Inc.
X-ORIGINAL-URL:https://fraleyauction.com
X-WR-CALDESC:Events for Fraley Auction Company, Inc.
BEGIN:VTIMEZONE
TZID:UTC
BEGIN:STANDARD
TZOFFSETFROM:+0000
TZOFFSETTO:+0000
TZNAME:UTC
DTSTART:20190101T000000
END:STANDARD
END:VTIMEZONE
BEGIN:VEVENT
DTSTART;TZID=UTC:20190406T103000
DTEND;TZID=UTC:20190406T103000
DTSTAMP:20260425T001307
CREATED:20190726T210617Z
LAST-MODIFIED:20190726T210617Z
UID:16711-1554546600-1554546600@fraleyauction.com
SUMMARY:Jones Farm Complete Farm Machinery Dispersal
DESCRIPTION:Jones Farm Complete Farm Machinery Dispersal\nOwner: Jones Farm \n4-6-19 Information Flyer
URL:https://fraleyauction.com/event/jones-farm-complete-farm-machinery-dispersal/
END:VEVENT
END:VCALENDAR