BEGIN:VCALENDAR
VERSION:2.0
PRODID:-//Fraley Auction Company, Inc. - ECPv5.16.4//NONSGML v1.0//EN
CALSCALE:GREGORIAN
METHOD:PUBLISH
X-WR-CALNAME:Fraley Auction Company, Inc.
X-ORIGINAL-URL:https://fraleyauction.com
X-WR-CALDESC:Events for Fraley Auction Company, Inc.
BEGIN:VTIMEZONE
TZID:America/New_York
BEGIN:DAYLIGHT
TZOFFSETFROM:-0500
TZOFFSETTO:-0400
TZNAME:EDT
DTSTART:20210314T070000
END:DAYLIGHT
BEGIN:STANDARD
TZOFFSETFROM:-0400
TZOFFSETTO:-0500
TZNAME:EST
DTSTART:20211107T060000
END:STANDARD
END:VTIMEZONE
BEGIN:VEVENT
DTSTART;TZID=America/New_York:20211030T090000
DTEND;TZID=America/New_York:20211030T210000
DTSTAMP:20260421T033442
CREATED:20210926T123037Z
LAST-MODIFIED:20211007T172831Z
UID:17057-1635584400-1635627600@fraleyauction.com
SUMMARY:Locust Hill Farm Complete Dispersal
DESCRIPTION:10-30-21 click here for flyer
URL:https://fraleyauction.com/event/locust-hill-farm-complete-dispersal/
LOCATION:432 Briar Road\, Osceola\, PA 16942
ATTACH;FMTTYPE=image/jpeg:https://fraleyauction.com/wp-content/uploads/2021/09/farnsworth-trator-picture-scaled.jpg
END:VEVENT
END:VCALENDAR