BEGIN:VCALENDAR
VERSION:2.0
PRODID:-//Fraley Auction Company, Inc. - ECPv5.16.4//NONSGML v1.0//EN
CALSCALE:GREGORIAN
METHOD:PUBLISH
X-WR-CALNAME:Fraley Auction Company, Inc.
X-ORIGINAL-URL:https://fraleyauction.com
X-WR-CALDESC:Events for Fraley Auction Company, Inc.
BEGIN:VTIMEZONE
TZID:America/New_York
BEGIN:DAYLIGHT
TZOFFSETFROM:-0500
TZOFFSETTO:-0400
TZNAME:EDT
DTSTART:20220313T070000
END:DAYLIGHT
BEGIN:STANDARD
TZOFFSETFROM:-0400
TZOFFSETTO:-0500
TZNAME:EST
DTSTART:20221106T060000
END:STANDARD
END:VTIMEZONE
BEGIN:VEVENT
DTSTART;TZID=America/New_York:20220305T100000
DTEND;TZID=America/New_York:20220305T190000
DTSTAMP:20260420T133039
CREATED:20220128T173906Z
LAST-MODIFIED:20220207T144317Z
UID:17151-1646474400-1646506800@fraleyauction.com
SUMMARY:Lois Finck Estate Dispersal
DESCRIPTION:3-5-22 Click here for flyer
URL:https://fraleyauction.com/event/lois-finck-estate-dispersal/
LOCATION:126 Finck Road\, Montgomery\, PA  17752
ATTACH;FMTTYPE=image/jpeg:https://fraleyauction.com/wp-content/uploads/2022/01/finck-house.jpg
END:VEVENT
END:VCALENDAR