BEGIN:VCALENDAR
VERSION:2.0
PRODID:-//Fraley Auction Company, Inc. - ECPv5.16.4//NONSGML v1.0//EN
CALSCALE:GREGORIAN
METHOD:PUBLISH
X-WR-CALNAME:Fraley Auction Company, Inc.
X-ORIGINAL-URL:https://fraleyauction.com
X-WR-CALDESC:Events for Fraley Auction Company, Inc.
BEGIN:VTIMEZONE
TZID:America/New_York
BEGIN:DAYLIGHT
TZOFFSETFROM:-0500
TZOFFSETTO:-0400
TZNAME:EDT
DTSTART:20220313T070000
END:DAYLIGHT
BEGIN:STANDARD
TZOFFSETFROM:-0400
TZOFFSETTO:-0500
TZNAME:EST
DTSTART:20221106T060000
END:STANDARD
END:VTIMEZONE
BEGIN:VEVENT
DTSTART;TZID=America/New_York:20220427T160000
DTEND;TZID=America/New_York:20220427T230000
DTSTAMP:20260419T231910
CREATED:20220327T215949Z
LAST-MODIFIED:20220421T104624Z
UID:17191-1651075200-1651100400@fraleyauction.com
SUMMARY:Ryan Bittner Dispersal
DESCRIPTION:4-27-22 click here for flyer
URL:https://fraleyauction.com/event/ryan-bittner-dispersal/
ATTACH;FMTTYPE=image/jpeg:https://fraleyauction.com/wp-content/uploads/2022/03/Bittner-farm-picture-scaled.jpg
END:VEVENT
END:VCALENDAR