BEGIN:VCALENDAR
VERSION:2.0
PRODID:-//Fraley Auction Company, Inc. - ECPv5.16.4//NONSGML v1.0//EN
CALSCALE:GREGORIAN
METHOD:PUBLISH
X-WR-CALNAME:Fraley Auction Company, Inc.
X-ORIGINAL-URL:https://fraleyauction.com
X-WR-CALDESC:Events for Fraley Auction Company, Inc.
BEGIN:VTIMEZONE
TZID:America/New_York
BEGIN:DAYLIGHT
TZOFFSETFROM:-0500
TZOFFSETTO:-0400
TZNAME:EDT
DTSTART:20210314T070000
END:DAYLIGHT
BEGIN:STANDARD
TZOFFSETFROM:-0400
TZOFFSETTO:-0500
TZNAME:EST
DTSTART:20211107T060000
END:STANDARD
END:VTIMEZONE
BEGIN:VEVENT
DTSTART;TZID=America/New_York:20210219T180000
DTEND;TZID=America/New_York:20210219T233000
DTSTAMP:20260424T154159
CREATED:20210112T174150Z
LAST-MODIFIED:20210127T152655Z
UID:16857-1613757600-1613777400@fraleyauction.com
SUMMARY:"The Breeders Select Sale"
DESCRIPTION:
URL:https://fraleyauction.com/event/the-breeders-select-sale/
LOCATION:(At the Fraley Dairy Complex)           1515 Kepner Hill Road\, Muncy\, PA  17756
ATTACH;FMTTYPE=image/png:https://fraleyauction.com/wp-content/uploads/2021/01/breeders-sale-picture.jpg.png
END:VEVENT
END:VCALENDAR