BEGIN:VCALENDAR
VERSION:2.0
PRODID:-//Fraley Auction Company, Inc. - ECPv5.16.4//NONSGML v1.0//EN
CALSCALE:GREGORIAN
METHOD:PUBLISH
X-WR-CALNAME:Fraley Auction Company, Inc.
X-ORIGINAL-URL:https://fraleyauction.com
X-WR-CALDESC:Events for Fraley Auction Company, Inc.
BEGIN:VTIMEZONE
TZID:America/New_York
BEGIN:DAYLIGHT
TZOFFSETFROM:-0500
TZOFFSETTO:-0400
TZNAME:EDT
DTSTART:20230312T070000
END:DAYLIGHT
BEGIN:STANDARD
TZOFFSETFROM:-0400
TZOFFSETTO:-0500
TZNAME:EST
DTSTART:20231105T060000
END:STANDARD
END:VTIMEZONE
BEGIN:VEVENT
DTSTART;TZID=America/New_York:20230815T180000
DTEND;TZID=America/New_York:20230815T190000
DTSTAMP:20260420T053044
CREATED:20230711T205046Z
LAST-MODIFIED:20230711T205731Z
UID:17526-1692122400-1692126000@fraleyauction.com
SUMMARY:The late Ansel D Webster Jr. Real Estates {Parcel #1}
DESCRIPTION:8-15-23 click here for flyer
URL:https://fraleyauction.com/event/the-late-ansel-d-webster-jr-real-estates/
LOCATION:Intersection of RT 15 & 287\, Tioga PA
ATTACH;FMTTYPE=image/jpeg:https://fraleyauction.com/wp-content/uploads/2023/07/webster-picture.jpg
END:VEVENT
END:VCALENDAR